BEGIN:VCALENDAR
VERSION:2.0
PRODID:-//Black Harbour Distillers LTD - ECPv6.15.20//NONSGML v1.0//EN
CALSCALE:GREGORIAN
METHOD:PUBLISH
X-ORIGINAL-URL:https://bhdistillers.ca
X-WR-CALDESC:Events for Black Harbour Distillers LTD
REFRESH-INTERVAL;VALUE=DURATION:PT1H
X-Robots-Tag:noindex
X-PUBLISHED-TTL:PT1H
BEGIN:VTIMEZONE
TZID:America/Halifax
BEGIN:DAYLIGHT
TZOFFSETFROM:-0400
TZOFFSETTO:-0300
TZNAME:ADT
DTSTART:20250309T060000
END:DAYLIGHT
BEGIN:STANDARD
TZOFFSETFROM:-0300
TZOFFSETTO:-0400
TZNAME:AST
DTSTART:20251102T050000
END:STANDARD
BEGIN:DAYLIGHT
TZOFFSETFROM:-0400
TZOFFSETTO:-0300
TZNAME:ADT
DTSTART:20260308T060000
END:DAYLIGHT
BEGIN:STANDARD
TZOFFSETFROM:-0300
TZOFFSETTO:-0400
TZNAME:AST
DTSTART:20261101T050000
END:STANDARD
BEGIN:DAYLIGHT
TZOFFSETFROM:-0400
TZOFFSETTO:-0300
TZNAME:ADT
DTSTART:20270314T060000
END:DAYLIGHT
BEGIN:STANDARD
TZOFFSETFROM:-0300
TZOFFSETTO:-0400
TZNAME:AST
DTSTART:20271107T050000
END:STANDARD
END:VTIMEZONE
BEGIN:VEVENT
DTSTART;TZID=America/Halifax:20260424T183000
DTEND;TZID=America/Halifax:20260424T200000
DTSTAMP:20260424T124138
CREATED:20260330T171933Z
LAST-MODIFIED:20260330T171933Z
UID:231289-1777055400-1777060800@bhdistillers.ca
SUMMARY:Trivia Night at Black Harbour!
DESCRIPTION:Trivia Night at Black Harbour \nThink you’ve got what it takes? Grab your crew and join us for a fun night of trivia\, great drinks\, and a little friendly competition.\n April 24 6:30–8PM\nFree to play & open to all ages — reservations recommended to secure your table.\nBring your friends\, grab a drink\, and let’s see who’s the smartest in the room 
URL:https://bhdistillers.ca/event/trivia-night-at-black-harbour/
CATEGORIES:Onsite Event
END:VEVENT
BEGIN:VEVENT
DTSTART;TZID=America/Halifax:20260425T130000
DTEND;TZID=America/Halifax:20260425T160000
DTSTAMP:20260424T124138
CREATED:20260330T172039Z
LAST-MODIFIED:20260330T172039Z
UID:231292-1777122000-1777132800@bhdistillers.ca
SUMMARY:Saturday Matinee with Jackson Weldon
DESCRIPTION:We offer Live Matinee every Saturday from 1-4pm! Join us for a great afternoon of live music from local talent weekly\, Great food from Alexandra’s Pizza who run’s our kitchen onsite!!\nOf course our cocktails are waiting for you!!\nCome check us out for all the fun!!
URL:https://bhdistillers.ca/event/saturday-matinee-with-jackson-weldon/
CATEGORIES:Live Music
END:VEVENT
BEGIN:VEVENT
DTSTART;TZID=America/Halifax:20260430T173000
DTEND;TZID=America/Halifax:20260430T203000
DTSTAMP:20260424T124138
CREATED:20260330T172428Z
LAST-MODIFIED:20260419T172233Z
UID:231298-1777570200-1777581000@bhdistillers.ca
SUMMARY:Paint your Pet Paint Night
DESCRIPTION:🎨 Paint Your Pet Night at Black Harbour Distillers\nTurn your pet into a painting — no experience needed!\nJoin us for a fun\, guided paint night where your pet will be pre-drawn on canvas\, making it easy for anyone to create a masterpiece. Whether you’re a beginner or just looking for a unique night out\, this is the perfect event! \nWhat’s Included: \n● Pre-drawn canvas of your pet\n● All painting materials\n● Step-by-step guided instruction\n● One handcrafted cocktail\n● Live music by MOA \nEvent Details: 📅 April 30 ⏰ 5:30–8:30 PM 📍 Black Harbour Distillers\nTickets: 💲 $45 per person\nHow to Book: Spots are limited! To reserve your seat:\n● Send your pet photo to riotocolour.ca@gmail.com\n● E-transfer payment to the same email
URL:https://bhdistillers.ca/event/paint-your-pet-paint-night/
CATEGORIES:Paint Night
END:VEVENT
END:VCALENDAR