BEGIN:VCALENDAR
VERSION:2.0
PRODID:-//Black Harbour Distillers LTD - ECPv6.15.20//NONSGML v1.0//EN
CALSCALE:GREGORIAN
METHOD:PUBLISH
X-WR-CALNAME:Black Harbour Distillers LTD
X-ORIGINAL-URL:https://bhdistillers.ca
X-WR-CALDESC:Events for Black Harbour Distillers LTD
REFRESH-INTERVAL;VALUE=DURATION:PT1H
X-Robots-Tag:noindex
X-PUBLISHED-TTL:PT1H
BEGIN:VTIMEZONE
TZID:America/Halifax
BEGIN:DAYLIGHT
TZOFFSETFROM:-0400
TZOFFSETTO:-0300
TZNAME:ADT
DTSTART:20250309T060000
END:DAYLIGHT
BEGIN:STANDARD
TZOFFSETFROM:-0300
TZOFFSETTO:-0400
TZNAME:AST
DTSTART:20251102T050000
END:STANDARD
BEGIN:DAYLIGHT
TZOFFSETFROM:-0400
TZOFFSETTO:-0300
TZNAME:ADT
DTSTART:20260308T060000
END:DAYLIGHT
BEGIN:STANDARD
TZOFFSETFROM:-0300
TZOFFSETTO:-0400
TZNAME:AST
DTSTART:20261101T050000
END:STANDARD
BEGIN:DAYLIGHT
TZOFFSETFROM:-0400
TZOFFSETTO:-0300
TZNAME:ADT
DTSTART:20270314T060000
END:DAYLIGHT
BEGIN:STANDARD
TZOFFSETFROM:-0300
TZOFFSETTO:-0400
TZNAME:AST
DTSTART:20271107T050000
END:STANDARD
END:VTIMEZONE
BEGIN:VEVENT
DTSTART;TZID=America/Halifax:20260430T173000
DTEND;TZID=America/Halifax:20260430T203000
DTSTAMP:20260420T104528
CREATED:20260330T172428Z
LAST-MODIFIED:20260419T172233Z
UID:231298-1777570200-1777581000@bhdistillers.ca
SUMMARY:Paint your Pet Paint Night
DESCRIPTION:🎨 Paint Your Pet Night at Black Harbour Distillers\nTurn your pet into a painting — no experience needed!\nJoin us for a fun\, guided paint night where your pet will be pre-drawn on canvas\, making it easy for anyone to create a masterpiece. Whether you’re a beginner or just looking for a unique night out\, this is the perfect event! \nWhat’s Included: \n● Pre-drawn canvas of your pet\n● All painting materials\n● Step-by-step guided instruction\n● One handcrafted cocktail\n● Live music by MOA \nEvent Details: 📅 April 30 ⏰ 5:30–8:30 PM 📍 Black Harbour Distillers\nTickets: 💲 $45 per person\nHow to Book: Spots are limited! To reserve your seat:\n● Send your pet photo to riotocolour.ca@gmail.com\n● E-transfer payment to the same email
URL:https://bhdistillers.ca/event/paint-your-pet-paint-night/
CATEGORIES:Paint Night
END:VEVENT
END:VCALENDAR